BEGIN:VCALENDAR
VERSION:2.0
PRODID:-//wp-events-plugin.com//7.2.3.1//EN
TZID:Europe/London
X-WR-TIMEZONE:Europe/London
BEGIN:VEVENT
UID:48@aldbourne-band.co.uk
DTSTART;TZID=Europe/London;VALUE=DATE:20181103
DTEND;TZID=Europe/London;VALUE=DATE:20181104
DTSTAMP:20180822T091814Z
URL:https://aldbourne-band.co.uk/events/wychavon-festival-of-brass-enterta
 inment-contest/
SUMMARY:Wychavon Festival of Brass  - Entertainment Contest
DESCRIPTION:https://www.festivalofbrass.co.uk/home.html
ATTACH;FMTTYPE=image/jpeg:https://aldbourne-band.co.uk/wp-content/uploads/
 2018/08/Aldbourne2018-Copy-Copy.jpg
CATEGORIES:Contest
LOCATION:Evesham\, de montfort School\, Evesham\, WR11 1DQ\, United Kingdom
X-APPLE-STRUCTURED-LOCATION;VALUE=URI;X-ADDRESS=de montfort School\, Evesha
 m\, WR11 1DQ\, United Kingdom;X-APPLE-RADIUS=100;X-TITLE=Evesham:geo:0,0
END:VEVENT
BEGIN:VTIMEZONE
TZID:Europe/London
X-LIC-LOCATION:Europe/London
BEGIN:STANDARD
DTSTART:20181028T010000
TZOFFSETFROM:+0100
TZOFFSETTO:+0000
TZNAME:GMT
END:STANDARD
END:VTIMEZONE
END:VCALENDAR