BEGIN:VCALENDAR
VERSION:2.0
PRODID:-//wp-events-plugin.com//7.2.3.1//EN
TZID:Europe/London
X-WR-TIMEZONE:Europe/London
BEGIN:VEVENT
UID:102@aldbourne-band.co.uk
DTSTART;TZID=Europe/London:20211030T130000
DTEND;TZID=Europe/London:20211030T200000
DTSTAMP:20210904T151621Z
URL:https://aldbourne-band.co.uk/events/wychavon-entertainment-contest/
SUMMARY:Wychavon Entertainment Contest
DESCRIPTION:The Band is excited to have a chance to perform in their first 
 Contest for 18 months and what better way to kick it off than an Entertain
 ment Contest.\n\nWe are excited to be led by our M.D. Glyn Williams
ATTACH;FMTTYPE=image/jpeg:https://aldbourne-band.co.uk/wp-content/uploads/
 2020/01/thumbnail_Band-Salisbury.jpg
CATEGORIES:Concert,Contest
LOCATION:Evesham\, de montfort School\, Evesham\, WR11 1DQ\, United Kingdom
X-APPLE-STRUCTURED-LOCATION;VALUE=URI;X-ADDRESS=de montfort School\, Evesha
 m\, WR11 1DQ\, United Kingdom;X-APPLE-RADIUS=100;X-TITLE=Evesham:geo:0,0
END:VEVENT
BEGIN:VTIMEZONE
TZID:Europe/London
X-LIC-LOCATION:Europe/London
BEGIN:DAYLIGHT
DTSTART:20210328T020000
TZOFFSETFROM:+0000
TZOFFSETTO:+0100
TZNAME:BST
END:DAYLIGHT
END:VTIMEZONE
END:VCALENDAR