BEGIN:VCALENDAR
VERSION:2.0
PRODID:-//wp-events-plugin.com//7.2.3.1//EN
TZID:Europe/London
X-WR-TIMEZONE:Europe/London
BEGIN:VEVENT
UID:113@aldbourne-band.co.uk
DTSTART;TZID=Europe/London:20220610T150000
DTEND;TZID=Europe/London:20220610T234500
DTSTAMP:20220405T215033Z
URL:https://aldbourne-band.co.uk/events/whit-friday/
SUMMARY:Whit Friday
DESCRIPTION:
ATTACH;FMTTYPE=image/jpeg:https://aldbourne-band.co.uk/wp-content/uploads/
 2020/01/whit2.jpg
CATEGORIES:Contest,March
LOCATION:Lawton Square\, Delph\, Oldham OL3 5DT\, Lawton Square\, Delph\, O
 ldham OL3 5DT\, Del\, OL3 5DT\, United Kingdom
X-APPLE-STRUCTURED-LOCATION;VALUE=URI;X-ADDRESS=Lawton Square\, Delph\, Old
 ham OL3 5DT\, Del\, OL3 5DT\, United Kingdom;X-APPLE-RADIUS=100;X-TITLE=La
 wton Square\, Delph\, Oldham OL3 5DT:geo:0,0
END:VEVENT
BEGIN:VTIMEZONE
TZID:Europe/London
X-LIC-LOCATION:Europe/London
BEGIN:DAYLIGHT
DTSTART:20220327T020000
TZOFFSETFROM:+0000
TZOFFSETTO:+0100
TZNAME:BST
END:DAYLIGHT
END:VTIMEZONE
END:VCALENDAR