BEGIN:VCALENDAR
VERSION:2.0
PRODID:-//wp-events-plugin.com//7.2.3.1//EN
TZID:Europe/London
X-WR-TIMEZONE:Europe/London
BEGIN:VEVENT
UID:60@aldbourne-band.co.uk
DTSTART;TZID=Europe/London:20190614T140000
DTEND;TZID=Europe/London:20190614T233000
DTSTAMP:20190210T223020Z
URL:https://aldbourne-band.co.uk/events/whit-friday-marches/
SUMMARY:Whit Friday Marches
DESCRIPTION:Aldbourne Band is excited to be taking part for the first time 
 in its history in the historic Whit Friday Marches . Held at Saddleworth a
 nd Thameside.\n\n&nbsp\;
ATTACH;FMTTYPE=image/jpeg:https://aldbourne-band.co.uk/wp-content/uploads/
 2018/09/Marchingdown2.jpg
CATEGORIES:Contest
LOCATION:Oldham\, Oldham\, Oldham\,  OL3 5DT\, United Kingdom
X-APPLE-STRUCTURED-LOCATION;VALUE=URI;X-ADDRESS=Oldham\, Oldham\,  OL3 5DT\
 , United Kingdom;X-APPLE-RADIUS=100;X-TITLE=Oldham:geo:0,0
END:VEVENT
BEGIN:VTIMEZONE
TZID:Europe/London
X-LIC-LOCATION:Europe/London
BEGIN:DAYLIGHT
DTSTART:20190331T020000
TZOFFSETFROM:+0000
TZOFFSETTO:+0100
TZNAME:BST
END:DAYLIGHT
END:VTIMEZONE
END:VCALENDAR