BEGIN:VCALENDAR
VERSION:2.0
PRODID:-//wp-events-plugin.com//7.2.3.1//EN
TZID:Europe/London
X-WR-TIMEZONE:Europe/London
BEGIN:VEVENT
UID:87@aldbourne-band.co.uk
DTSTART;TZID=Europe/London;VALUE=DATE:20200315
DTEND;TZID=Europe/London;VALUE=DATE:20200316
DTSTAMP:20200103T201734Z
URL:https://aldbourne-band.co.uk/events/west-of-england-championships/
SUMMARY:West Of England Championships
DESCRIPTION:The Band will be once again competing in the Championship Secti
 on for the West of England Championships. They will be conducted by Dr Dav
 id Thornton and will be striving to compete for the West of England title 
 and qualification for the RAH
ATTACH;FMTTYPE=image/jpeg:https://aldbourne-band.co.uk/wp-content/uploads/
 2018/10/BritishOpen2018Band.jpg
CATEGORIES:Contest
LOCATION:Riveria Center\, Chestnut Ave\, \, Torquay\, Devon\,  TQ2 5LZ\, Un
 ited Kingdom
X-APPLE-STRUCTURED-LOCATION;VALUE=URI;X-ADDRESS=Chestnut Ave\, \, Torquay\,
  Devon\,  TQ2 5LZ\, United Kingdom;X-APPLE-RADIUS=100;X-TITLE=Riveria Cent
 er:geo:0,0
END:VEVENT
BEGIN:VTIMEZONE
TZID:Europe/London
X-LIC-LOCATION:Europe/London
BEGIN:STANDARD
DTSTART:20191027T010000
TZOFFSETFROM:+0100
TZOFFSETTO:+0000
TZNAME:GMT
END:STANDARD
END:VTIMEZONE
END:VCALENDAR