BEGIN:VCALENDAR
VERSION:2.0
PRODID:-//wp-events-plugin.com//7.2.3.1//EN
TZID:Europe/London
X-WR-TIMEZONE:Europe/London
BEGIN:VEVENT
UID:56@aldbourne-band.co.uk
DTSTART;TZID=Europe/London;VALUE=DATE:20190310
DTEND;TZID=Europe/London;VALUE=DATE:20190311
DTSTAMP:20190204T102218Z
URL:https://aldbourne-band.co.uk/events/webba-contest-torquay/
SUMMARY:WEBBA Contest Torquay
DESCRIPTION:Championship Section performing Seascapes
ATTACH;FMTTYPE=image/jpeg:https://aldbourne-band.co.uk/wp-content/uploads/
 2019/01/Aldbiourne-Band-2-cropped.jpg
CATEGORIES:Contest
LOCATION:Riveria Center\, Chestnut Ave\, \, Torquay\, Devon\,  TQ2 5LZ\, Un
 ited Kingdom
X-APPLE-STRUCTURED-LOCATION;VALUE=URI;X-ADDRESS=Chestnut Ave\, \, Torquay\,
  Devon\,  TQ2 5LZ\, United Kingdom;X-APPLE-RADIUS=100;X-TITLE=Riveria Cent
 er:geo:0,0
END:VEVENT
BEGIN:VTIMEZONE
TZID:Europe/London
X-LIC-LOCATION:Europe/London
BEGIN:STANDARD
DTSTART:20181028T010000
TZOFFSETFROM:+0100
TZOFFSETTO:+0000
TZNAME:GMT
END:STANDARD
END:VTIMEZONE
END:VCALENDAR