BEGIN:VCALENDAR
VERSION:2.0
PRODID:-//wp-events-plugin.com//7.2.3.1//EN
TZID:Europe/London
X-WR-TIMEZONE:Europe/London
BEGIN:VEVENT
UID:44@aldbourne-band.co.uk
DTSTART;TZID=Europe/London;VALUE=DATE:20180908
DTEND;TZID=Europe/London;VALUE=DATE:20180909
DTSTAMP:20180518T172821Z
URL:https://aldbourne-band.co.uk/events/the-british-open-brass-band-champi
 onships/
SUMMARY:The British Open Brass Band Championships
DESCRIPTION:http://www.thebritishopen.net/britishopen.html\n\nThe Band is p
 roud and honoured to have qualified to take part in the British Open Brass
  Band Championships to be held at the Birmingham Symphony Hall on Septembe
 r 8th 2018
ATTACH;FMTTYPE=image/jpeg:https://aldbourne-band.co.uk/wp-content/uploads/
 2018/05/32460170_1680519155335827_1153689071097217024_n.jpg
CATEGORIES:Contest
LOCATION:Symphony Hall\, Birmingham\, Broad St\, Birmingham\, B1 2EA\, Unit
 ed Kingdom
X-APPLE-STRUCTURED-LOCATION;VALUE=URI;X-ADDRESS=Broad St\, Birmingham\, B1 
 2EA\, United Kingdom;X-APPLE-RADIUS=100;X-TITLE=Symphony Hall\, Birmingham
 :geo:0,0
END:VEVENT
BEGIN:VTIMEZONE
TZID:Europe/London
X-LIC-LOCATION:Europe/London
BEGIN:DAYLIGHT
DTSTART:20180325T020000
TZOFFSETFROM:+0000
TZOFFSETTO:+0100
TZNAME:BST
END:DAYLIGHT
END:VTIMEZONE
END:VCALENDAR