BEGIN:VCALENDAR
VERSION:2.0
PRODID:-//wp-events-plugin.com//7.2.3.1//EN
TZID:Europe/London
X-WR-TIMEZONE:Europe/London
BEGIN:VEVENT
UID:66@aldbourne-band.co.uk
DTSTART;TZID=Europe/London;VALUE=DATE:20190907
DTEND;TZID=Europe/London;VALUE=DATE:20190908
DTSTAMP:20190210T225203Z
URL:https://aldbourne-band.co.uk/events/the-british-open-birmingham/
SUMMARY:The British Open - Birmingham
DESCRIPTION:The Band once again takes part in this historic and World Class
  competition
ATTACH;FMTTYPE=image/jpeg:https://aldbourne-band.co.uk/wp-content/uploads/
 2018/10/BritishOpen2018Band-Copy.jpg
CATEGORIES:Contest
LOCATION:Symphony Hall  Birmingham\, Broad St\, Birmingham\, B1 2EA\, Unite
 d Kingdom
X-APPLE-STRUCTURED-LOCATION;VALUE=URI;X-ADDRESS=Broad St\, Birmingham\, B1 
 2EA\, United Kingdom;X-APPLE-RADIUS=100;X-TITLE=Symphony Hall  Birmingham:
 geo:0,0
END:VEVENT
BEGIN:VTIMEZONE
TZID:Europe/London
X-LIC-LOCATION:Europe/London
BEGIN:DAYLIGHT
DTSTART:20190331T020000
TZOFFSETFROM:+0000
TZOFFSETTO:+0100
TZNAME:BST
END:DAYLIGHT
END:VTIMEZONE
END:VCALENDAR