BEGIN:VCALENDAR
VERSION:2.0
PRODID:-//wp-events-plugin.com//7.2.3.1//EN
TZID:Europe/London
X-WR-TIMEZONE:Europe/London
BEGIN:VEVENT
UID:74@aldbourne-band.co.uk
DTSTART;TZID=Europe/London:20191207T183000
DTEND;TZID=Europe/London:20191207T203000
DTSTAMP:20191123T150438Z
URL:https://aldbourne-band.co.uk/events/swindon-choral-society-christmas-c
 oncert/
SUMMARY:Swindon Choral Society Christmas Concert
DESCRIPTION:We are delighted to be joining forces with Swindon Choral Socie
 ty and their Christmas Concert at Christchurch Swindon.\n\nhttp://swindonc
 horal.org.uk/scs/main.php?varFunction=concerts&amp\;varFilter=planned&amp\
 ;varMenuDir=horizontal
ATTACH;FMTTYPE=image/jpeg:https://aldbourne-band.co.uk/wp-content/uploads/
 2019/02/IMG_1126-2.jpg
CATEGORIES:Christmas Concert,Concert
LOCATION:26 Cricklade St\, Swindon SN1 3HG\, 26 Cricklade St\, SWINDON\, SN
 1 3HG\, United Kingdom
X-APPLE-STRUCTURED-LOCATION;VALUE=URI;X-ADDRESS=26 Cricklade St\, SWINDON\,
  SN1 3HG\, United Kingdom;X-APPLE-RADIUS=100;X-TITLE=26 Cricklade St\, Swi
 ndon SN1 3HG:geo:0,0
END:VEVENT
BEGIN:VTIMEZONE
TZID:Europe/London
X-LIC-LOCATION:Europe/London
BEGIN:STANDARD
DTSTART:20191027T010000
TZOFFSETFROM:+0100
TZOFFSETTO:+0000
TZNAME:GMT
END:STANDARD
END:VTIMEZONE
END:VCALENDAR