BEGIN:VCALENDAR
VERSION:2.0
PRODID:-//wp-events-plugin.com//7.2.3.1//EN
TZID:Europe/London
X-WR-TIMEZONE:Europe/London
BEGIN:VEVENT
UID:140@aldbourne-band.co.uk
DTSTART;TZID=Europe/London:20240602T190000
DTEND;TZID=Europe/London:20240602T210000
DTSTAMP:20240518T155331Z
URL:https://aldbourne-band.co.uk/events/summer-series-june/
SUMMARY:Summer Series - June
DESCRIPTION:Come and enjoy our Summer Series June concert on the Village Gr
 een for a varied programme to suit all tastes.
ATTACH;FMTTYPE=image/jpeg:https://aldbourne-band.co.uk/wp-content/uploads/
 2024/05/All-dates-poster.jpeg
CATEGORIES:Concert
LOCATION:The Green\, The Green\, Aldbourne\, Wiltshire\, United Kingdom
X-APPLE-STRUCTURED-LOCATION;VALUE=URI;X-ADDRESS=The Green\, Aldbourne\, Wil
 tshire\, United Kingdom;X-APPLE-RADIUS=100;X-TITLE=The Green:geo:0,0
END:VEVENT
BEGIN:VTIMEZONE
TZID:Europe/London
X-LIC-LOCATION:Europe/London
BEGIN:DAYLIGHT
DTSTART:20240331T020000
TZOFFSETFROM:+0000
TZOFFSETTO:+0100
TZNAME:BST
END:DAYLIGHT
END:VTIMEZONE
END:VCALENDAR