BEGIN:VCALENDAR
VERSION:2.0
PRODID:-//wp-events-plugin.com//7.2.3.1//EN
TZID:Europe/London
X-WR-TIMEZONE:Europe/London
BEGIN:VEVENT
UID:155@aldbourne-band.co.uk
DTSTART;TZID=Europe/London:20250803T160000
DTEND;TZID=Europe/London:20250803T180000
DTSTAMP:20250531T214702Z
URL:https://aldbourne-band.co.uk/events/summer-series-august-2/
SUMMARY:Summer Series - August
DESCRIPTION:
ATTACH;FMTTYPE=image/jpeg:https://aldbourne-band.co.uk/wp-content/uploads/
 2025/05/IMG_4857.jpeg
CATEGORIES:Concert,Pond Concerts
LOCATION:The Green\, Aldbourne\, The Green\, Aldbourne\, Wiltshire\, United
  Kingdom
X-APPLE-STRUCTURED-LOCATION;VALUE=URI;X-ADDRESS=The Green\, Aldbourne\, Wil
 tshire\, United Kingdom;X-APPLE-RADIUS=100;X-TITLE=The Green\, Aldbourne:g
 eo:0,0
END:VEVENT
BEGIN:VTIMEZONE
TZID:Europe/London
X-LIC-LOCATION:Europe/London
BEGIN:DAYLIGHT
DTSTART:20250330T020000
TZOFFSETFROM:+0000
TZOFFSETTO:+0100
TZNAME:BST
END:DAYLIGHT
END:VTIMEZONE
END:VCALENDAR