BEGIN:VCALENDAR
VERSION:2.0
PRODID:-//wp-events-plugin.com//7.2.3.1//EN
TZID:Europe/London
X-WR-TIMEZONE:Europe/London
BEGIN:VEVENT
UID:86@aldbourne-band.co.uk
DTSTART;TZID=Europe/London:20200223T150000
DTEND;TZID=Europe/London:20200223T173000
DTSTAMP:20200103T201359Z
URL:https://aldbourne-band.co.uk/events/stroud-subscription-rooms-concert/
SUMMARY:Stroud Subscription Rooms Concert
DESCRIPTION:We are excited to be invited back to Stroud Subscription rooms 
 as part of their Brass Band Series of Concerts\n\nThe Band are looking for
 ward to our concert at the Stroud Subscription Rooms this weekend on Sunda
 y February 23rd starting at 3pm. We will be conducted by Glyn Williams\n\n
 Make sure you get your tickets for this great concert\, available from the
  link below:\n\nhttps://thesubrooms.co.uk/event/aldbourne-band/
ATTACH;FMTTYPE=image/jpeg:https://aldbourne-band.co.uk/wp-content/uploads/
 2018/11/no2.jpg
CATEGORIES:Concert
LOCATION:Stroud Subscription Rooms\, George ST\, Stroud\, Gloucester\, GL5 
 1AE\, United Kingdom
X-APPLE-STRUCTURED-LOCATION;VALUE=URI;X-ADDRESS=George ST\, Stroud\, Glouce
 ster\, GL5 1AE\, United Kingdom;X-APPLE-RADIUS=100;X-TITLE=Stroud Subscrip
 tion Rooms:geo:0,0
END:VEVENT
BEGIN:VTIMEZONE
TZID:Europe/London
X-LIC-LOCATION:Europe/London
BEGIN:STANDARD
DTSTART:20191027T010000
TZOFFSETFROM:+0100
TZOFFSETTO:+0000
TZNAME:GMT
END:STANDARD
END:VTIMEZONE
END:VCALENDAR