BEGIN:VCALENDAR
VERSION:2.0
PRODID:-//wp-events-plugin.com//7.2.3.1//EN
TZID:Europe/London
X-WR-TIMEZONE:Europe/London
BEGIN:VEVENT
UID:30@aldbourne-band.co.uk
DTSTART;TZID=Europe/London:20180603T150000
DTEND;TZID=Europe/London:20180603T170000
DTSTAMP:20180312T182011Z
URL:https://aldbourne-band.co.uk/events/stroud-subscription-rooms-brass-ba
 nd-series-concerts/
SUMMARY:Stroud Subscription Rooms  - Brass Band Series Concerts  - Conducte
 d by Glyn Williams
DESCRIPTION:Aldbourne Band is delighted to be performing at the Stroud Subs
 cription Rooms as part of the Brass Band Series of Concerts.\nConducted by
  Glyn Williams
ATTACH;FMTTYPE=image/jpeg:https://aldbourne-band.co.uk/wp-content/uploads/
 2016/10/IMG_1682.jpg
CATEGORIES:Concert
LOCATION:Stroud Subscription Rooms\, George ST\, Stroud\, Gloucester\, GL5 
 1AE\, United Kingdom
X-APPLE-STRUCTURED-LOCATION;VALUE=URI;X-ADDRESS=George ST\, Stroud\, Glouce
 ster\, GL5 1AE\, United Kingdom;X-APPLE-RADIUS=100;X-TITLE=Stroud Subscrip
 tion Rooms:geo:0,0
END:VEVENT
BEGIN:VTIMEZONE
TZID:Europe/London
X-LIC-LOCATION:Europe/London
BEGIN:DAYLIGHT
DTSTART:20180325T020000
TZOFFSETFROM:+0000
TZOFFSETTO:+0100
TZNAME:BST
END:DAYLIGHT
END:VTIMEZONE
END:VCALENDAR