BEGIN:VCALENDAR
VERSION:2.0
PRODID:-//wp-events-plugin.com//7.2.3.1//EN
TZID:Europe/London
X-WR-TIMEZONE:Europe/London
BEGIN:VEVENT
UID:138@aldbourne-band.co.uk
DTSTART;TZID=Europe/London:20240421T153000
DTEND;TZID=Europe/London:20240421T173000
DTSTAMP:20240318T093933Z
URL:https://aldbourne-band.co.uk/events/st-georges-day-concert/
SUMMARY:St George's Day Concert
DESCRIPTION:&#x1f4e3\; DATE FOR YOUR DIARY! &#x1f4e3\;\n\n&#x1f3ba\;Fresh f
 rom their success at the West of England Championships\, Aldbourne Band ar
 e delighted to announce their next concert on Sunday 21st April at 3.30pm 
 in St Michael's Church\, Aldbourne!\n\n&#x1f3f4\;&#xe0067\;&#xe0062\;&#xe0
 065\;&#xe006e\;&#xe0067\;&#xe007f\;Showcasing English music ahead of St. G
 eorge's Day\, the concert will feature favourites from across the decades 
 and genres!\n\n&#x1f3b6\;Come along for an afternoon treat and help us cel
 ebrate our qualification to the National Brass Band Championships of Great
  Britain Finals!\n\n#Dabchicks #Brassband #MusicinWiltshire
ATTACH;FMTTYPE=image/jpeg:https://aldbourne-band.co.uk/wp-content/uploads/
 2024/03/IMG_2841.jpeg
CATEGORIES:Concert
LOCATION:St Michaels Church\, St Michaels Church\, Aldbourne\, Wiltshire\, 
 United Kingdom
X-APPLE-STRUCTURED-LOCATION;VALUE=URI;X-ADDRESS=St Michaels Church\, Aldbou
 rne\, Wiltshire\, United Kingdom;X-APPLE-RADIUS=100;X-TITLE=St Michaels Ch
 urch:geo:0,0
END:VEVENT
BEGIN:VTIMEZONE
TZID:Europe/London
X-LIC-LOCATION:Europe/London
BEGIN:DAYLIGHT
DTSTART:20240331T020000
TZOFFSETFROM:+0000
TZOFFSETTO:+0100
TZNAME:BST
END:DAYLIGHT
END:VTIMEZONE
END:VCALENDAR