BEGIN:VCALENDAR
VERSION:2.0
PRODID:-//wp-events-plugin.com//7.2.3.1//EN
TZID:Europe/London
X-WR-TIMEZONE:Europe/London
BEGIN:VEVENT
UID:124@aldbourne-band.co.uk
DTSTART;TZID=Europe/London:20221113T103000
DTEND;TZID=Europe/London:20221113T113000
DTSTAMP:20220405T221713Z
URL:https://aldbourne-band.co.uk/events/remembrance-sunday/
SUMMARY:Remembrance Sunday
DESCRIPTION:
CATEGORIES:Concert,March
LOCATION:Memorial Hall\, Memorial Hall\, Aldbourne\, United Kingdom
X-APPLE-STRUCTURED-LOCATION;VALUE=URI;X-ADDRESS=Memorial Hall\, Aldbourne\,
  United Kingdom;X-APPLE-RADIUS=100;X-TITLE=Memorial Hall:geo:0,0
END:VEVENT
BEGIN:VTIMEZONE
TZID:Europe/London
X-LIC-LOCATION:Europe/London
BEGIN:STANDARD
DTSTART:20221030T010000
TZOFFSETFROM:+0100
TZOFFSETTO:+0000
TZNAME:GMT
END:STANDARD
END:VTIMEZONE
END:VCALENDAR