BEGIN:VCALENDAR
VERSION:2.0
PRODID:-//wp-events-plugin.com//7.2.3.1//EN
TZID:Europe/London
X-WR-TIMEZONE:Europe/London
BEGIN:VEVENT
UID:122@aldbourne-band.co.uk
DTSTART;TZID=Europe/London;VALUE=DATE:20221015
DTEND;TZID=Europe/London;VALUE=DATE:20221016
DTSTAMP:20220405T221240Z
URL:https://aldbourne-band.co.uk/events/rah-national-finals-2/
SUMMARY:RAH National Finals
DESCRIPTION:
ATTACH;FMTTYPE=image/jpeg:https://aldbourne-band.co.uk/wp-content/uploads/
 2016/10/IMG_1682.jpg
CATEGORIES:Contest
LOCATION:Royal Albert Hall\, Kensington Gore\, London\, SW7\, United Kingdo
 m
X-APPLE-STRUCTURED-LOCATION;VALUE=URI;X-ADDRESS=Kensington Gore\, London\, 
 SW7\, United Kingdom;X-APPLE-RADIUS=100;X-TITLE=Royal Albert Hall:geo:0,0
END:VEVENT
BEGIN:VTIMEZONE
TZID:Europe/London
X-LIC-LOCATION:Europe/London
BEGIN:DAYLIGHT
DTSTART:20220327T020000
TZOFFSETFROM:+0000
TZOFFSETTO:+0100
TZNAME:BST
END:DAYLIGHT
END:VTIMEZONE
END:VCALENDAR