BEGIN:VCALENDAR
VERSION:2.0
PRODID:-//wp-events-plugin.com//7.2.3.1//EN
TZID:Europe/London
X-WR-TIMEZONE:Europe/London
BEGIN:VEVENT
UID:68@aldbourne-band.co.uk
DTSTART;TZID=Europe/London:20190804T150000
DTEND;TZID=Europe/London:20190804T180000
DTSTAMP:20190728T173220Z
URL:https://aldbourne-band.co.uk/events/prom-on-the-green/
SUMMARY:Prom on the Green
DESCRIPTION:Bring your picnics \, chairs and Blankets and hopefully Suncrea
 m and enjoy a Summer Afternoon listening to the Prom Concert of Aldbourne 
 Band  and Special Guests.\n\nBe sure to get there early to park sensibly\
 n\nProgramme of Events\n\nSt Michaels Church Bells Ring  at 3pm\n\nAldbou
 rne Community choir at 3.30\n\nAldbourne Band from 4 pm with Special Guest
 s\n\nSouth Chiltern Choral society from 5.15pm\n\n&nbsp\;
ATTACH;FMTTYPE=image/jpeg:https://aldbourne-band.co.uk/wp-content/uploads/
 2019/01/PROM2018.jpg
CATEGORIES:Concert,Pond Concerts
LOCATION:Blue Boar Aldbourne\, 20 The Green\, \, Aldbourne\, SN8 2EN\, Unit
 ed Kingdom
X-APPLE-STRUCTURED-LOCATION;VALUE=URI;X-ADDRESS=20 The Green\, \, Aldbourne
 \, SN8 2EN\, United Kingdom;X-APPLE-RADIUS=100;X-TITLE=Blue Boar Aldbourne
 :geo:0,0
END:VEVENT
BEGIN:VTIMEZONE
TZID:Europe/London
X-LIC-LOCATION:Europe/London
BEGIN:DAYLIGHT
DTSTART:20190331T020000
TZOFFSETFROM:+0000
TZOFFSETTO:+0100
TZNAME:BST
END:DAYLIGHT
END:VTIMEZONE
END:VCALENDAR