BEGIN:VCALENDAR
VERSION:2.0
PRODID:-//wp-events-plugin.com//7.2.3.1//EN
TZID:Europe/London
X-WR-TIMEZONE:Europe/London
BEGIN:VEVENT
UID:36@aldbourne-band.co.uk
DTSTART;TZID=Europe/London:20180805T160000
DTEND;TZID=Europe/London:20180805T180000
DTSTAMP:20180312T200404Z
URL:https://aldbourne-band.co.uk/events/prom-on-the-green-concert-2018-pon
 d-series-no-3/
SUMMARY:Prom on the Green Concert 2018  - Pond Series No 3
DESCRIPTION:Join Aldbourne Band for their hugely popular Prom Pond Concert 
 . A delighful way to spend a Sunday Afternoon. Bring your Flags Picnic Ham
 pers ! and enjoy the occasion !\n\n\nNote: If raining the concert is held 
 in Church
ATTACH;FMTTYPE=image/jpeg:https://aldbourne-band.co.uk/wp-content/uploads/
 2016/09/pond-green-2016.jpg
CATEGORIES:Concert
LOCATION:The Square\, Aldbourne\, The Square\, Aldbourne\, Wiltshire\, Unit
 ed Kingdom
X-APPLE-STRUCTURED-LOCATION;VALUE=URI;X-ADDRESS=The Square\, Aldbourne\, Wi
 ltshire\, United Kingdom;X-APPLE-RADIUS=100;X-TITLE=The Square\, Aldbourne
 :geo:0,0
END:VEVENT
BEGIN:VTIMEZONE
TZID:Europe/London
X-LIC-LOCATION:Europe/London
BEGIN:DAYLIGHT
DTSTART:20180325T020000
TZOFFSETFROM:+0000
TZOFFSETTO:+0100
TZNAME:BST
END:DAYLIGHT
END:VTIMEZONE
END:VCALENDAR