BEGIN:VCALENDAR
VERSION:2.0
PRODID:-//wp-events-plugin.com//7.2.3.1//EN
TZID:Europe/London
X-WR-TIMEZONE:Europe/London
BEGIN:VEVENT
UID:38@aldbourne-band.co.uk
DTSTART;TZID=Europe/London:20180902T183000
DTEND;TZID=Europe/London:20180902T203000
DTSTAMP:20180312T200852Z
URL:https://aldbourne-band.co.uk/events/pond-series-concerts-2018-no-4-car
 nival-pond/
SUMMARY:Pond Series Concerts 2018 - NO 4 (Carnival Pond)
DESCRIPTION:Join Aldbourne Band for their hugely popular Pond Concerts . A 
 delighful way to spend a Sunday evening.\nConducted by Glyn Williams\n\nNo
 te: If raining the concert is held in Church
ATTACH;FMTTYPE=image/jpeg:https://aldbourne-band.co.uk/wp-content/uploads/
 2018/03/Bythepondaldbourne.jpg
CATEGORIES:Concert
LOCATION:The Square\, Aldbourne\, The Square\, Aldbourne\, Wiltshire\, Unit
 ed Kingdom
X-APPLE-STRUCTURED-LOCATION;VALUE=URI;X-ADDRESS=The Square\, Aldbourne\, Wi
 ltshire\, United Kingdom;X-APPLE-RADIUS=100;X-TITLE=The Square\, Aldbourne
 :geo:0,0
END:VEVENT
BEGIN:VTIMEZONE
TZID:Europe/London
X-LIC-LOCATION:Europe/London
BEGIN:DAYLIGHT
DTSTART:20180325T020000
TZOFFSETFROM:+0000
TZOFFSETTO:+0100
TZNAME:BST
END:DAYLIGHT
END:VTIMEZONE
END:VCALENDAR