BEGIN:VCALENDAR
VERSION:2.0
PRODID:-//wp-events-plugin.com//7.2.3.1//EN
TZID:Europe/London
X-WR-TIMEZONE:Europe/London
BEGIN:VEVENT
UID:59@aldbourne-band.co.uk
DTSTART;TZID=Europe/London:20190602T183000
DTEND;TZID=Europe/London:20190602T203000
DTSTAMP:20190210T223339Z
URL:https://aldbourne-band.co.uk/events/pond-no1/
SUMMARY:Pond Concert NO1
DESCRIPTION:We once again host our Pond series of Concerts by  the Pond  
 in the beautiful village of Aldbourne. Please come and listen on a lovely 
 Summers evening.
ATTACH;FMTTYPE=image/jpeg:https://aldbourne-band.co.uk/wp-content/uploads/
 2018/10/Bythepondaldbourne.jpg
CATEGORIES:Concert,Pond Concerts
LOCATION:The Square\, Aldbourne\, The Square\, Aldbourne\, Wiltshire\, Unit
 ed Kingdom
X-APPLE-STRUCTURED-LOCATION;VALUE=URI;X-ADDRESS=The Square\, Aldbourne\, Wi
 ltshire\, United Kingdom;X-APPLE-RADIUS=100;X-TITLE=The Square\, Aldbourne
 :geo:0,0
END:VEVENT
BEGIN:VTIMEZONE
TZID:Europe/London
X-LIC-LOCATION:Europe/London
BEGIN:DAYLIGHT
DTSTART:20190331T020000
TZOFFSETFROM:+0000
TZOFFSETTO:+0100
TZNAME:BST
END:DAYLIGHT
END:VTIMEZONE
END:VCALENDAR