BEGIN:VCALENDAR
VERSION:2.0
PRODID:-//wp-events-plugin.com//7.2.3.1//EN
TZID:Europe/London
X-WR-TIMEZONE:Europe/London
BEGIN:VEVENT
UID:96@aldbourne-band.co.uk
DTSTART;TZID=Europe/London:20200906T160000
DTEND;TZID=Europe/London:20200906T160000
DTSTAMP:20200103T223110Z
URL:https://aldbourne-band.co.uk/events/pond-no-4-carnival-pond/
SUMMARY:Pond no 4 - Carnival Pond
DESCRIPTION:The Band will play in its 4th Pond Concert of the series \, and
  close out the Carnival with a wide and varied Concert Programme
CATEGORIES:Concert
LOCATION:Blue Boar Aldbourne\, 20 The Green\, \, Aldbourne\, SN8 2EN\, Unit
 ed Kingdom
X-APPLE-STRUCTURED-LOCATION;VALUE=URI;X-ADDRESS=20 The Green\, \, Aldbourne
 \, SN8 2EN\, United Kingdom;X-APPLE-RADIUS=100;X-TITLE=Blue Boar Aldbourne
 :geo:0,0
END:VEVENT
BEGIN:VTIMEZONE
TZID:Europe/London
X-LIC-LOCATION:Europe/London
BEGIN:DAYLIGHT
DTSTART:20200329T020000
TZOFFSETFROM:+0000
TZOFFSETTO:+0100
TZNAME:BST
END:DAYLIGHT
END:VTIMEZONE
END:VCALENDAR