BEGIN:VCALENDAR
VERSION:2.0
PRODID:-//wp-events-plugin.com//7.2.3.1//EN
TZID:Europe/London
X-WR-TIMEZONE:Europe/London
BEGIN:VEVENT
UID:51@aldbourne-band.co.uk
DTSTART;TZID=Europe/London:20181201T203000
DTEND;TZID=Europe/London:20181201T233000
DTSTAMP:20181125T115357Z
URL:https://aldbourne-band.co.uk/events/oompah-loompah-band/
SUMMARY:Oompah Loompah Band
DESCRIPTION:Come and join a subsection of Aldbourne Band in full Octoberfes
 t Costume as they perform as the Oompah Loompah Band in aid of MDNA (Motor
  Neurone Disease Association) at the Blue Boar Aldbourne. This will be a f
 un filled evening in aid of a great cause.
ATTACH;FMTTYPE=image/jpeg:https://aldbourne-band.co.uk/wp-content/uploads/
 2018/11/Blueboaroompah.jpg
CATEGORIES:Concert
LOCATION:Blue Boar Aldbourne\, 20 The Green\, \, Aldbourne\, SN8 2EN\, Unit
 ed Kingdom
X-APPLE-STRUCTURED-LOCATION;VALUE=URI;X-ADDRESS=20 The Green\, \, Aldbourne
 \, SN8 2EN\, United Kingdom;X-APPLE-RADIUS=100;X-TITLE=Blue Boar Aldbourne
 :geo:0,0
END:VEVENT
BEGIN:VTIMEZONE
TZID:Europe/London
X-LIC-LOCATION:Europe/London
BEGIN:STANDARD
DTSTART:20181028T010000
TZOFFSETFROM:+0100
TZOFFSETTO:+0000
TZNAME:GMT
END:STANDARD
END:VTIMEZONE
END:VCALENDAR