BEGIN:VCALENDAR
VERSION:2.0
PRODID:-//wp-events-plugin.com//7.2.3.1//EN
TZID:Europe/London
X-WR-TIMEZONE:Europe/London
BEGIN:VEVENT
UID:46@aldbourne-band.co.uk
DTSTART;TZID=Europe/London:20181028T180000
DTEND;TZID=Europe/London:20181028T200000
DTSTAMP:20181017T110246Z
URL:https://aldbourne-band.co.uk/events/night-at-the-movies-themed-concert
 -with-guest-conductor-chris-king/
SUMMARY:Night at the Movies themed Concert with Glyn Williams and  Guest Co
 nductor Chris King
DESCRIPTION:HI come and join us for a Movie themed concert with  Glyn Will
 iams and our Special Guest Conductor Chris King of Friary Guilford Band.\n
 \n&nbsp\;
ATTACH;FMTTYPE=image/jpeg:https://aldbourne-band.co.uk/wp-content/uploads/
 2018/03/Bythepondaldbourne.jpg
CATEGORIES:Concert
LOCATION:St Michaels Church\, St Michaels Church\, Aldbourne\, Wiltshire\, 
 United Kingdom
X-APPLE-STRUCTURED-LOCATION;VALUE=URI;X-ADDRESS=St Michaels Church\, Aldbou
 rne\, Wiltshire\, United Kingdom;X-APPLE-RADIUS=100;X-TITLE=St Michaels Ch
 urch:geo:0,0
END:VEVENT
BEGIN:VTIMEZONE
TZID:Europe/London
X-LIC-LOCATION:Europe/London
BEGIN:STANDARD
DTSTART:20181028T010000
TZOFFSETFROM:+0100
TZOFFSETTO:+0000
TZNAME:GMT
END:STANDARD
END:VTIMEZONE
END:VCALENDAR