BEGIN:VCALENDAR
VERSION:2.0
PRODID:-//wp-events-plugin.com//7.2.3.1//EN
TZID:Europe/London
X-WR-TIMEZONE:Europe/London
BEGIN:VEVENT
UID:31@aldbourne-band.co.uk
DTSTART;TZID=Europe/London:20180609T200000
DTEND;TZID=Europe/London:20180609T220000
DTSTAMP:20180605T114316Z
URL:https://aldbourne-band.co.uk/events/massed-bands-aldbourne-bristol-eas
 t-salvation-army-bristol/
SUMMARY:Massed Bands -  Aldbourne & Bristol Easton Salvation Army  - Bristo
 l - Conductor Glyn Williams
DESCRIPTION:We are delighted to announce a Massed Band Concert with the Bri
 stol Easton Salvation Army at St Patricks Church Redfield Bristol. We are 
 really looking forward to building on our connection and friendship with t
 his fine Band through Anthony Smith who has helped us out on many occasion
 s on Euphonium.\nhttps://www.salvationarmy.org.uk/bristol-easton\n\nTicket
 s available through https://www.eventbrite.co.uk/e/summer-sounds-tickets-
 45665169752\n\n&nbsp\;
ATTACH;FMTTYPE=image/jpeg:https://aldbourne-band.co.uk/wp-content/uploads/
 2018/03/Aldbourne_18.jpg
CATEGORIES:Concert
LOCATION:St Patricks Church\, Redfield\, Bristol\, United Kingdom
X-APPLE-STRUCTURED-LOCATION;VALUE=URI;X-ADDRESS=Redfield\, Bristol\, United
  Kingdom;X-APPLE-RADIUS=100;X-TITLE=St Patricks Church:geo:0,0
END:VEVENT
BEGIN:VTIMEZONE
TZID:Europe/London
X-LIC-LOCATION:Europe/London
BEGIN:DAYLIGHT
DTSTART:20180325T020000
TZOFFSETFROM:+0000
TZOFFSETTO:+0100
TZNAME:BST
END:DAYLIGHT
END:VTIMEZONE
END:VCALENDAR