BEGIN:VCALENDAR
VERSION:2.0
PRODID:-//wp-events-plugin.com//7.2.3.1//EN
TZID:Europe/London
X-WR-TIMEZONE:Europe/London
BEGIN:VEVENT
UID:67@aldbourne-band.co.uk
DTSTART;TZID=Europe/London:20190801T200000
DTEND;TZID=Europe/London:20190801T210000
DTSTAMP:20190728T172554Z
URL:https://aldbourne-band.co.uk/events/marlborough-college-summer-school-
 recital/
SUMMARY:Marlborough College Summer School Recital
DESCRIPTION:We are once again really pleased to be invited back to the Marl
 borough Summer School
ATTACH;FMTTYPE=image/jpeg:https://aldbourne-band.co.uk/wp-content/uploads/
 2019/01/Aldbiourne-Band-2-cropped.jpg
CATEGORIES:Concert
LOCATION:Marlborough College\, Bath Rd\, Marlborough\, Wiltshire\, SN8 1PA\
 , United Kingdom
X-APPLE-STRUCTURED-LOCATION;VALUE=URI;X-ADDRESS=Bath Rd\, Marlborough\, Wil
 tshire\, SN8 1PA\, United Kingdom;X-APPLE-RADIUS=100;X-TITLE=Marlborough C
 ollege:geo:0,0
END:VEVENT
BEGIN:VTIMEZONE
TZID:Europe/London
X-LIC-LOCATION:Europe/London
BEGIN:DAYLIGHT
DTSTART:20190331T020000
TZOFFSETFROM:+0000
TZOFFSETTO:+0100
TZNAME:BST
END:DAYLIGHT
END:VTIMEZONE
END:VCALENDAR