BEGIN:VCALENDAR
VERSION:2.0
PRODID:-//wp-events-plugin.com//7.2.3.1//EN
TZID:Europe/London
X-WR-TIMEZONE:Europe/London
BEGIN:VEVENT
UID:34@aldbourne-band.co.uk
DTSTART;TZID=Europe/London:20180712T200000
DTEND;TZID=Europe/London:20180712T220000
DTSTAMP:20180523T074919Z
URL:https://aldbourne-band.co.uk/events/marlborough-college-summer-school-
 recital-conducted-by-glyn-williams/
SUMMARY:Marlborough College Summer School Recital  -   Conducted by Glyn Wi
 lliams
DESCRIPTION:Come and join us on a Summer Evening Recital at the World Famou
 s Marlborough College.\nTickets will be available direct from Marlborough 
 Summer School site www.summerschool.co.uk
ATTACH;FMTTYPE=image/jpeg:https://aldbourne-band.co.uk/wp-content/uploads/
 2016/10/IMG_1682.jpg
CATEGORIES:Concert
LOCATION:Marlborough College\, Bath Rd\, Marlborough\, Wiltshire\, SN8 1PA\
 , United Kingdom
X-APPLE-STRUCTURED-LOCATION;VALUE=URI;X-ADDRESS=Bath Rd\, Marlborough\, Wil
 tshire\, SN8 1PA\, United Kingdom;X-APPLE-RADIUS=100;X-TITLE=Marlborough C
 ollege:geo:0,0
END:VEVENT
BEGIN:VTIMEZONE
TZID:Europe/London
X-LIC-LOCATION:Europe/London
BEGIN:DAYLIGHT
DTSTART:20180325T020000
TZOFFSETFROM:+0000
TZOFFSETTO:+0100
TZNAME:BST
END:DAYLIGHT
END:VTIMEZONE
END:VCALENDAR