BEGIN:VCALENDAR
VERSION:2.0
PRODID:-//wp-events-plugin.com//7.2.3.1//EN
TZID:Europe/London
X-WR-TIMEZONE:Europe/London
BEGIN:VEVENT
UID:50@aldbourne-band.co.uk
DTSTART;TZID=Europe/London:20181202T163000
DTEND;TZID=Europe/London:20181202T173000
DTSTAMP:20181125T113740Z
URL:https://aldbourne-band.co.uk/events/light-up-a-life-carol-service-pros
 pect-hospice-wroughton/
SUMMARY:Light up a Life Carol Service \, Prospect Hospice Wroughton
DESCRIPTION:The Aldbourne Band is again very proud to be supporting the Pro
 spect  Hospice Life up a Life Service. We will support the Carols with a 
 smaller Ensemble in this lovely and moving Service.\n\n
ATTACH;FMTTYPE=image/jpeg:https://aldbourne-band.co.uk/wp-content/uploads/
 2018/11/aldbournechristmas.jpg
CATEGORIES:Carol Service
LOCATION:Prospect Hospice\, Prospect Hospice\, Wroughton\, United Kingdom
X-APPLE-STRUCTURED-LOCATION;VALUE=URI;X-ADDRESS=Prospect Hospice\, Wroughto
 n\, United Kingdom;X-APPLE-RADIUS=100;X-TITLE=Prospect Hospice:geo:0,0
END:VEVENT
BEGIN:VTIMEZONE
TZID:Europe/London
X-LIC-LOCATION:Europe/London
BEGIN:STANDARD
DTSTART:20181028T010000
TZOFFSETFROM:+0100
TZOFFSETTO:+0000
TZNAME:GMT
END:STANDARD
END:VTIMEZONE
END:VCALENDAR