BEGIN:VCALENDAR
VERSION:2.0
PRODID:-//wp-events-plugin.com//7.2.3.1//EN
TZID:Europe/London
X-WR-TIMEZONE:Europe/London
BEGIN:VEVENT
UID:72@aldbourne-band.co.uk
DTSTART;TZID=Europe/London:20191124T173000
DTEND;TZID=Europe/London:20191124T193000
DTSTAMP:20190210T230327Z
URL:https://aldbourne-band.co.uk/events/kentwood-christmas-cracker/
SUMMARY:Kentwood Christmas Cracker
DESCRIPTION:The Band once again joins Sheila Harrod and the Kentwood Choir 
 for their amazing Christmas Cracker !
ATTACH;FMTTYPE=image/jpeg:https://aldbourne-band.co.uk/wp-content/uploads/
 2018/11/X4C4665.jpg
LOCATION:Wyvern Theatre\, Wyvern Theatre\, Swindon\, United Kingdom
X-APPLE-STRUCTURED-LOCATION;VALUE=URI;X-ADDRESS=Wyvern Theatre\, Swindon\, 
 United Kingdom;X-APPLE-RADIUS=100;X-TITLE=Wyvern Theatre:geo:0,0
END:VEVENT
BEGIN:VTIMEZONE
TZID:Europe/London
X-LIC-LOCATION:Europe/London
BEGIN:STANDARD
DTSTART:20191027T010000
TZOFFSETFROM:+0100
TZOFFSETTO:+0000
TZNAME:GMT
END:STANDARD
END:VTIMEZONE
END:VCALENDAR