BEGIN:VCALENDAR
VERSION:2.0
PRODID:-//wp-events-plugin.com//7.2.3.1//EN
TZID:Europe/London
X-WR-TIMEZONE:Europe/London
BEGIN:VEVENT
UID:149@aldbourne-band.co.uk
DTSTART;TZID=Europe/London:20241123T190000
DTEND;TZID=Europe/London:20241123T220000
DTSTAMP:20241120T232625Z
URL:https://aldbourne-band.co.uk/events/kentwood-christmas-cracker-3/
SUMMARY:Kentwood Christmas Cracker
DESCRIPTION:
ATTACH;FMTTYPE=image/jpeg:https://aldbourne-band.co.uk/wp-content/uploads/
 2024/11/IMG_3949.jpeg
CATEGORIES:Christmas Concert
LOCATION:Wyvern Theatre\, Wyvern Theatre\, Swindon\, United Kingdom
X-APPLE-STRUCTURED-LOCATION;VALUE=URI;X-ADDRESS=Wyvern Theatre\, Swindon\, 
 United Kingdom;X-APPLE-RADIUS=100;X-TITLE=Wyvern Theatre:geo:0,0
END:VEVENT
BEGIN:VTIMEZONE
TZID:Europe/London
X-LIC-LOCATION:Europe/London
BEGIN:STANDARD
DTSTART:20241027T010000
TZOFFSETFROM:+0100
TZOFFSETTO:+0000
TZNAME:GMT
END:STANDARD
END:VTIMEZONE
END:VCALENDAR