BEGIN:VCALENDAR
VERSION:2.0
PRODID:-//wp-events-plugin.com//7.2.3.1//EN
TZID:Europe/London
X-WR-TIMEZONE:Europe/London
BEGIN:VEVENT
UID:110@aldbourne-band.co.uk
DTSTART;TZID=Europe/London:20220522T180000
DTEND;TZID=Europe/London:20220522T203000
DTSTAMP:20220405T213858Z
URL:https://aldbourne-band.co.uk/events/kentwood-choir/
SUMMARY:Kentwood Choir
DESCRIPTION:\n\nhttps://swindontheatres.co.uk/Online/tickets-kentwood-choir
 -swindon-2022?fbclid=IwAR3aimeQ8vLzVSV69j6wsH-2QVUf3dGrpVjFAc62dB6Kc9aZFss
 i2RbAHWQ\n\n&nbsp\;
ATTACH;FMTTYPE=image/jpeg:https://aldbourne-band.co.uk/wp-content/uploads/
 2022/04/celebration.jpg
CATEGORIES:Concert
LOCATION:Wyvern Theatre\, Wyvern Theatre\, Swindon\, United Kingdom
X-APPLE-STRUCTURED-LOCATION;VALUE=URI;X-ADDRESS=Wyvern Theatre\, Swindon\, 
 United Kingdom;X-APPLE-RADIUS=100;X-TITLE=Wyvern Theatre:geo:0,0
END:VEVENT
BEGIN:VTIMEZONE
TZID:Europe/London
X-LIC-LOCATION:Europe/London
BEGIN:DAYLIGHT
DTSTART:20220327T020000
TZOFFSETFROM:+0000
TZOFFSETTO:+0100
TZNAME:BST
END:DAYLIGHT
END:VTIMEZONE
END:VCALENDAR