BEGIN:VCALENDAR
VERSION:2.0
PRODID:-//wp-events-plugin.com//7.2.3.1//EN
TZID:Europe/London
X-WR-TIMEZONE:Europe/London
BEGIN:VEVENT
UID:150@aldbourne-band.co.uk
DTSTART;TZID=Europe/London:20250125T190000
DTEND;TZID=Europe/London:20250125T213000
DTSTAMP:20250118T134424Z
URL:https://aldbourne-band.co.uk/events/immanuel-concert-2/
SUMMARY:Immanuel Concert
DESCRIPTION:[caption id="attachment_1900" align="alignleft" width="300"] Im
 manuel Church 2024[/caption]
ATTACH;FMTTYPE=image/jpeg:https://aldbourne-band.co.uk/wp-content/uploads/
 2024/03/IMG_2839.jpeg
CATEGORIES:Concert
LOCATION:Immanuel United  Church\, Upham Road\, Swindon\, Wiltshire\, SN8 1
 PA\, United Kingdom
X-APPLE-STRUCTURED-LOCATION;VALUE=URI;X-ADDRESS=Upham Road\, Swindon\, Wilt
 shire\, SN8 1PA\, United Kingdom;X-APPLE-RADIUS=100;X-TITLE=Immanuel Unite
 d  Church:geo:0,0
END:VEVENT
BEGIN:VTIMEZONE
TZID:Europe/London
X-LIC-LOCATION:Europe/London
BEGIN:STANDARD
DTSTART:20241027T010000
TZOFFSETFROM:+0100
TZOFFSETTO:+0000
TZNAME:GMT
END:STANDARD
END:VTIMEZONE
END:VCALENDAR