BEGIN:VCALENDAR
VERSION:2.0
PRODID:-//wp-events-plugin.com//7.2.3.1//EN
TZID:Europe/London
X-WR-TIMEZONE:Europe/London
BEGIN:VEVENT
UID:108@aldbourne-band.co.uk
DTSTART;TZID=Europe/London:20220129T190000
DTEND;TZID=Europe/London:20220129T213000
DTSTAMP:20220117T155444Z
URL:https://aldbourne-band.co.uk/events/immanuel-church-upham-road-7pm-29t
 h-january/
SUMMARY:Immanuel Church Upham Road  - 7PM 29TH January
DESCRIPTION:The Band is once more delighted after a 2 year enforced Hiatus 
 to be back at Upham Road Methodist Church
CATEGORIES:Concert
LOCATION:Immanuel Church\, Upham Rd\, Swindon\, Wiltshire\, SN3 1DH\, Unite
 d Kingdom
X-APPLE-STRUCTURED-LOCATION;VALUE=URI;X-ADDRESS=Upham Rd\, Swindon\, Wiltsh
 ire\, SN3 1DH\, United Kingdom;X-APPLE-RADIUS=100;X-TITLE=Immanuel Church:
 geo:0,0
END:VEVENT
BEGIN:VTIMEZONE
TZID:Europe/London
X-LIC-LOCATION:Europe/London
BEGIN:STANDARD
DTSTART:20211031T010000
TZOFFSETFROM:+0100
TZOFFSETTO:+0000
TZNAME:GMT
END:STANDARD
END:VTIMEZONE
END:VCALENDAR