BEGIN:VCALENDAR
VERSION:2.0
PRODID:-//wp-events-plugin.com//7.2.3.1//EN
TZID:Europe/London
X-WR-TIMEZONE:Europe/London
BEGIN:VEVENT
UID:53@aldbourne-band.co.uk
DTSTART;TZID=Europe/London:20190202T193000
DTEND;TZID=Europe/London:20190202T213000
DTSTAMP:20190101T225231Z
URL:https://aldbourne-band.co.uk/events/gold-brass-joint-concert-with-aldb
 ourne-band-and-reading-phoenix-choir/
SUMMARY:Gold & Brass – Joint Concert with Aldbourne Band and Reading Phoe
 nix Choir
DESCRIPTION:We are really pleased to be part of a Joint Concert with the am
 azing Reading Phoenix Choir at the fabulous Dorchester Abbey . We have an
  exciting programme lined up with Glyn Williams conducting.\n\nThis will b
 e an excellent opportunity to enjoy some great choral music together the t
 hrilling brass sound of the Aldbourne Band in the wonderful acoustic of th
 e Abbey church at Dorchester.\n\nThe evening will include choral music by 
 Thomas Morley\, Anton Bruckner\, Ralph Vaughan Williams\, Ola Gjeilo and B
 ob Chilcott. You will also hear brass music by Chick Corea\, Billy Joel an
 d that great composer of film music\, John Williams.\n\nThe band and the c
 hoir will combine together to deliver some great favourites:\n\n 	Handel
 ’s Halleluiah chorus from the Messiah\n 	I was Glad and Jerusalem b
 y Charles Hubert Parry\n 	John Williams’ Hymn to the Fallen\n\nTickets 
 £15  (Under 16 Free)\n\nhttp://www.readingphoenixchoir.com/concert/joint
 -concert-with-aldbourne-band-dorchester-abbey/?fbclid=IwAR2UDbpKZryz1lQBXA
 -a9EPycdYevBvWdqnKrsHXWG_WCkn75ofhdNRE2vo
ATTACH;FMTTYPE=image/jpeg:https://aldbourne-band.co.uk/wp-content/uploads/
 2018/10/BritishOpen2018Band-Copy.jpg
CATEGORIES:Concert
LOCATION:Dorchester Abbey Wallingford\, High St\,\, Dorchester\,Wallingford
 \, Oxfordshire\, OX10 7HH\, United Kingdom
X-APPLE-STRUCTURED-LOCATION;VALUE=URI;X-ADDRESS=High St\,\, Dorchester\,Wal
 lingford\, Oxfordshire\, OX10 7HH\, United Kingdom;X-APPLE-RADIUS=100;X-TI
 TLE=Dorchester Abbey Wallingford:geo:0,0
END:VEVENT
BEGIN:VTIMEZONE
TZID:Europe/London
X-LIC-LOCATION:Europe/London
BEGIN:STANDARD
DTSTART:20181028T010000
TZOFFSETFROM:+0100
TZOFFSETTO:+0000
TZNAME:GMT
END:STANDARD
END:VTIMEZONE
END:VCALENDAR