BEGIN:VCALENDAR
VERSION:2.0
PRODID:-//wp-events-plugin.com//7.2.3.1//EN
TZID:Europe/London
X-WR-TIMEZONE:Europe/London
BEGIN:VEVENT
UID:83@aldbourne-band.co.uk
DTSTART;TZID=Europe/London:20191109T190000
DTEND;TZID=Europe/London:20191109T220000
DTSTAMP:20191108T215021Z
URL:https://aldbourne-band.co.uk/events/friends-of-aldbourne-band-special-
 requests-concert/
SUMMARY:Friends of Aldbourne Band Special Requests Concert
DESCRIPTION:This is a special concert of "special musical requests" for the
  Friends of Aldbourne Band . This is to celebrate and thank them for all t
 he work and monies they have raised for us over the last 10 years which is
  over £100\,000 !.\n\nThis Concert is of course open to the Public
ATTACH;FMTTYPE=image/jpeg:https://aldbourne-band.co.uk/wp-content/uploads/
 2019/01/Aldbiourne-Band-2-cropped.jpg
CATEGORIES:Concert
LOCATION:St Michaels Church\, St Michaels Church\, Aldbourne\, Wiltshire\, 
 United Kingdom
X-APPLE-STRUCTURED-LOCATION;VALUE=URI;X-ADDRESS=St Michaels Church\, Aldbou
 rne\, Wiltshire\, United Kingdom;X-APPLE-RADIUS=100;X-TITLE=St Michaels Ch
 urch:geo:0,0
END:VEVENT
BEGIN:VTIMEZONE
TZID:Europe/London
X-LIC-LOCATION:Europe/London
BEGIN:STANDARD
DTSTART:20191027T010000
TZOFFSETFROM:+0100
TZOFFSETTO:+0000
TZNAME:GMT
END:STANDARD
END:VTIMEZONE
END:VCALENDAR