BEGIN:VCALENDAR
VERSION:2.0
PRODID:-//wp-events-plugin.com//7.2.3.1//EN
TZID:Europe/London
X-WR-TIMEZONE:Europe/London
BEGIN:VEVENT
UID:103@aldbourne-band.co.uk
DTSTART;TZID=Europe/London:20211106T190000
DTEND;TZID=Europe/London:20211106T210000
DTSTAMP:20210913T212345Z
URL:https://aldbourne-band.co.uk/events/friends-of-aldbourne-band-request-
 concert-open-to-all/
SUMMARY:Friends of Aldbourne Band Request Concert - Open to all
DESCRIPTION:The Band is back in their home playing in St Michaels Church a 
 request Concert made up of pieces especially requested by their supporters
 . It is open to the public come along and enjoy an evening of great music 
 !
ATTACH;FMTTYPE=image/jpeg:https://aldbourne-band.co.uk/wp-content/uploads/
 2019/09/iceman2.jpg
CATEGORIES:Concert
END:VEVENT
BEGIN:VTIMEZONE
TZID:Europe/London
X-LIC-LOCATION:Europe/London
BEGIN:STANDARD
DTSTART:20211031T010000
TZOFFSETFROM:+0100
TZOFFSETTO:+0000
TZNAME:GMT
END:STANDARD
END:VTIMEZONE
END:VCALENDAR