BEGIN:VCALENDAR
VERSION:2.0
PRODID:-//wp-events-plugin.com//7.2.3.1//EN
TZID:Europe/London
X-WR-TIMEZONE:Europe/London
BEGIN:VEVENT
UID:144@aldbourne-band.co.uk
DTSTART;TZID=Europe/London:20241019T190000
DTEND;TZID=Europe/London:20241019T213000
DTSTAMP:20241011T142543Z
URL:https://aldbourne-band.co.uk/events/friends-of-aldbourne-band-concert/
SUMMARY:Friends of Aldbourne Band Concert
DESCRIPTION:
ATTACH;FMTTYPE=image/jpeg:https://aldbourne-band.co.uk/wp-content/uploads/
 2023/11/IMG_2288.jpeg
CATEGORIES:Concert
LOCATION:St Michaels Church\, St Michaels Church\, Aldbourne\, Wiltshire\, 
 United Kingdom
X-APPLE-STRUCTURED-LOCATION;VALUE=URI;X-ADDRESS=St Michaels Church\, Aldbou
 rne\, Wiltshire\, United Kingdom;X-APPLE-RADIUS=100;X-TITLE=St Michaels Ch
 urch:geo:0,0
END:VEVENT
BEGIN:VTIMEZONE
TZID:Europe/London
X-LIC-LOCATION:Europe/London
BEGIN:DAYLIGHT
DTSTART:20240331T020000
TZOFFSETFROM:+0000
TZOFFSETTO:+0100
TZNAME:BST
END:DAYLIGHT
END:VTIMEZONE
END:VCALENDAR