BEGIN:VCALENDAR
VERSION:2.0
PRODID:-//wp-events-plugin.com//7.2.3.1//EN
TZID:Europe/London
X-WR-TIMEZONE:Europe/London
BEGIN:VEVENT
UID:98@aldbourne-band.co.uk
DTSTART;TZID=Europe/London:20201122T173000
DTEND;TZID=Europe/London:20201122T200000
DTSTAMP:20200103T223832Z
URL:https://aldbourne-band.co.uk/events/christmas-cracker/
SUMMARY:Christmas Cracker
DESCRIPTION:The Band will once again be special guests of the Kentwood Show
  Choir at their Annual Christmas Cracker at the Wyvern Theatre Swindon
ATTACH;FMTTYPE=image/jpeg:https://aldbourne-band.co.uk/wp-content/uploads/
 2019/11/janeyounglove.jpg
CATEGORIES:Concert
LOCATION:Wyvern Theatre\, Wyvern Theatre\, Swindon\, United Kingdom
X-APPLE-STRUCTURED-LOCATION;VALUE=URI;X-ADDRESS=Wyvern Theatre\, Swindon\, 
 United Kingdom;X-APPLE-RADIUS=100;X-TITLE=Wyvern Theatre:geo:0,0
END:VEVENT
BEGIN:VTIMEZONE
TZID:Europe/London
X-LIC-LOCATION:Europe/London
BEGIN:STANDARD
DTSTART:20201025T010000
TZOFFSETFROM:+0100
TZOFFSETTO:+0000
TZNAME:GMT
END:STANDARD
END:VTIMEZONE
END:VCALENDAR