BEGIN:VCALENDAR
VERSION:2.0
PRODID:-//wp-events-plugin.com//7.2.3.1//EN
TZID:Europe/London
X-WR-TIMEZONE:Europe/London
BEGIN:VEVENT
UID:29@aldbourne-band.co.uk
DTSTART;TZID=Europe/London:20181125T053000
DTEND;TZID=Europe/London:20181125T200000
DTSTAMP:20180122T222904Z
URL:https://aldbourne-band.co.uk/events/christmas-cracker-wyvern-theatre/
SUMMARY:Christmas Cracker Wyvern Theatre
DESCRIPTION:Once again this year we have the pleasure of taking part in the
  Sheila Harrod and her Kentwood Choir Christmas Cracker Christmas Concert
ATTACH;FMTTYPE=image/jpeg:https://aldbourne-band.co.uk/wp-content/uploads/
 2017/11/0292E1BE-69C1-49EB-A4EE-F4E97ED0FDE4.jpeg
CATEGORIES:Christmas Concert,Concert
LOCATION:Wyvern Theatre\, Wyvern Theatre\, Swindon\, United Kingdom
X-APPLE-STRUCTURED-LOCATION;VALUE=URI;X-ADDRESS=Wyvern Theatre\, Swindon\, 
 United Kingdom;X-APPLE-RADIUS=100;X-TITLE=Wyvern Theatre:geo:0,0
END:VEVENT
BEGIN:VTIMEZONE
TZID:Europe/London
X-LIC-LOCATION:Europe/London
BEGIN:STANDARD
DTSTART:20181028T010000
TZOFFSETFROM:+0100
TZOFFSETTO:+0000
TZNAME:GMT
END:STANDARD
END:VTIMEZONE
END:VCALENDAR