BEGIN:VCALENDAR
VERSION:2.0
PRODID:-//wp-events-plugin.com//7.2.3.1//EN
TZID:Europe/London
X-WR-TIMEZONE:Europe/London
BEGIN:VEVENT
UID:107@aldbourne-band.co.uk
DTSTART;TZID=Europe/London:20211214T190000
DTEND;TZID=Europe/London:20211214T213000
DTSTAMP:20211210T085600Z
URL:https://aldbourne-band.co.uk/events/christmas-concert-swindon-rotary-c
 lub-with-kentwood-choir/
SUMMARY:Christmas Concert Swindon Rotary Club with Kentwood Choir
DESCRIPTION:We are thrilled to be coming to Swindon to partake in a Christm
 as Concert with the fantastic Kentwood Choir at ChristChurch Swindon
ATTACH;FMTTYPE=image/jpeg:https://aldbourne-band.co.uk/wp-content/uploads/
 2020/01/thumbnail_Band-Salisbury.jpg
CATEGORIES:Carol Service,Christmas Concert,Concert
LOCATION:Christchurch\, 26 Cricklade St\, SWINDON\, SN1 3HG\, United Kingdo
 m
X-APPLE-STRUCTURED-LOCATION;VALUE=URI;X-ADDRESS=26 Cricklade St\, SWINDON\,
  SN1 3HG\, United Kingdom;X-APPLE-RADIUS=100;X-TITLE=Christchurch:geo:0,0
END:VEVENT
BEGIN:VTIMEZONE
TZID:Europe/London
X-LIC-LOCATION:Europe/London
BEGIN:STANDARD
DTSTART:20211031T010000
TZOFFSETFROM:+0100
TZOFFSETTO:+0000
TZNAME:GMT
END:STANDARD
END:VTIMEZONE
END:VCALENDAR