BEGIN:VCALENDAR
VERSION:2.0
PRODID:-//wp-events-plugin.com//7.2.3.1//EN
TZID:Europe/London
X-WR-TIMEZONE:Europe/London
BEGIN:VEVENT
UID:49@aldbourne-band.co.uk
DTSTART;TZID=Europe/London:20181110T190000
DTEND;TZID=Europe/London:20181110T210000
DTSTAMP:20181109T161117Z
URL:https://aldbourne-band.co.uk/events/christ-church-swindon-festival-of-
 commemoration/
SUMMARY:Christ Church Swindon Festival of Commemoration
DESCRIPTION:Swindon Festival of Commemoration Concert. Details
ATTACH;FMTTYPE=image/jpeg:https://aldbourne-band.co.uk/wp-content/uploads/
 2018/03/Bythepondaldbourne.jpg
CATEGORIES:Concert
LOCATION:26 Cricklade St\, Swindon SN1 3HG\, 26 Cricklade St\, SWINDON\, SN
 1 3HG\, United Kingdom
X-APPLE-STRUCTURED-LOCATION;VALUE=URI;X-ADDRESS=26 Cricklade St\, SWINDON\,
  SN1 3HG\, United Kingdom;X-APPLE-RADIUS=100;X-TITLE=26 Cricklade St\, Swi
 ndon SN1 3HG:geo:0,0
END:VEVENT
BEGIN:VTIMEZONE
TZID:Europe/London
X-LIC-LOCATION:Europe/London
BEGIN:STANDARD
DTSTART:20181028T010000
TZOFFSETFROM:+0100
TZOFFSETTO:+0000
TZNAME:GMT
END:STANDARD
END:VTIMEZONE
END:VCALENDAR