BEGIN:VCALENDAR
VERSION:2.0
PRODID:-//wp-events-plugin.com//7.2.3.1//EN
TZID:Europe/London
X-WR-TIMEZONE:Europe/London
BEGIN:VEVENT
UID:135@aldbourne-band.co.uk
DTSTART;TZID=Europe/London:20231201T194500
DTEND;TZID=Europe/London:20231201T220000
DTSTAMP:20231108T183559Z
URL:https://aldbourne-band.co.uk/events/chiseldon-christmas-concert-6/
SUMMARY:Chiseldon Christmas Concert
DESCRIPTION:
ATTACH;FMTTYPE=image/jpeg:https://aldbourne-band.co.uk/wp-content/uploads/
 2023/11/IMG_2286.jpeg
CATEGORIES:Christmas Concert
LOCATION:Holy Cross Church\, Holy Cross Church\, Chiseldon\, Wiltshire\, SN
 4 0NJ\, United Kingdom
X-APPLE-STRUCTURED-LOCATION;VALUE=URI;X-ADDRESS=Holy Cross Church\, Chiseld
 on\, Wiltshire\, SN4 0NJ\, United Kingdom;X-APPLE-RADIUS=100;X-TITLE=Holy 
 Cross Church:geo:0,0
END:VEVENT
BEGIN:VTIMEZONE
TZID:Europe/London
X-LIC-LOCATION:Europe/London
BEGIN:STANDARD
DTSTART:20231029T010000
TZOFFSETFROM:+0100
TZOFFSETTO:+0000
TZNAME:GMT
END:STANDARD
END:VTIMEZONE
END:VCALENDAR