BEGIN:VCALENDAR
VERSION:2.0
PRODID:-//wp-events-plugin.com//7.2.3.1//EN
TZID:Europe/London
X-WR-TIMEZONE:Europe/London
BEGIN:VEVENT
UID:104@aldbourne-band.co.uk
DTSTART;TZID=Europe/London:20211203T194500
DTEND;TZID=Europe/London:20211203T214500
DTSTAMP:20210904T145925Z
URL:https://aldbourne-band.co.uk/events/chiseldon-christmas-concert-5/
SUMMARY:Chiseldon Christmas Concert
DESCRIPTION:The Band is thrilled to be back in Chiseldon Church for their C
 hristmas Concert once again !
ATTACH;FMTTYPE=image/jpeg:https://aldbourne-band.co.uk/wp-content/uploads/
 2019/02/IMG_1126-2.jpg
CATEGORIES:Carol Service,Christmas Concert,Concert
LOCATION:Holy Cross Church\, Chiseldon\, Holy Cross Church\, Chiseldon \, W
 iltshire\, United Kingdom
X-APPLE-STRUCTURED-LOCATION;VALUE=URI;X-ADDRESS=Holy Cross Church\, Chiseld
 on \, Wiltshire\, United Kingdom;X-APPLE-RADIUS=100;X-TITLE=Holy Cross Chu
 rch\, Chiseldon:geo:0,0
END:VEVENT
BEGIN:VTIMEZONE
TZID:Europe/London
X-LIC-LOCATION:Europe/London
BEGIN:STANDARD
DTSTART:20211031T010000
TZOFFSETFROM:+0100
TZOFFSETTO:+0000
TZNAME:GMT
END:STANDARD
END:VTIMEZONE
END:VCALENDAR