BEGIN:VCALENDAR
VERSION:2.0
PRODID:-//wp-events-plugin.com//7.2.3.1//EN
TZID:Europe/London
X-WR-TIMEZONE:Europe/London
BEGIN:VEVENT
UID:73@aldbourne-band.co.uk
DTSTART;TZID=Europe/London:20191206T194500
DTEND;TZID=Europe/London:20191206T223000
DTSTAMP:20191123T150308Z
URL:https://aldbourne-band.co.uk/events/chiseldon-christmas-concert-4/
SUMMARY:Chiseldon Christmas Concert
DESCRIPTION:This is a very special concert for the Band in this beautiful l
 ocation and lovely Church.
ATTACH;FMTTYPE=image/jpeg:https://aldbourne-band.co.uk/wp-content/uploads/
 2018/11/aldbournechristmas.jpg
CATEGORIES:Christmas Concert,Concert
LOCATION:Holy Cross Church\, Chiseldon\, Holy Cross Church\, Chiseldon \, W
 iltshire\, United Kingdom
X-APPLE-STRUCTURED-LOCATION;VALUE=URI;X-ADDRESS=Holy Cross Church\, Chiseld
 on \, Wiltshire\, United Kingdom;X-APPLE-RADIUS=100;X-TITLE=Holy Cross Chu
 rch\, Chiseldon:geo:0,0
END:VEVENT
BEGIN:VTIMEZONE
TZID:Europe/London
X-LIC-LOCATION:Europe/London
BEGIN:STANDARD
DTSTART:20191027T010000
TZOFFSETFROM:+0100
TZOFFSETTO:+0000
TZNAME:GMT
END:STANDARD
END:VTIMEZONE
END:VCALENDAR