BEGIN:VCALENDAR
VERSION:2.0
PRODID:-//wp-events-plugin.com//7.2.3.1//EN
TZID:Europe/London
X-WR-TIMEZONE:Europe/London
BEGIN:VEVENT
UID:158@aldbourne-band.co.uk
DTSTART;TZID=Europe/London:20250831T140000
DTEND;TZID=Europe/London:20250831T163000
DTSTAMP:20250830T082242Z
URL:https://aldbourne-band.co.uk/events/champions-concert/
SUMMARY:Champions Concert
DESCRIPTION:
ATTACH;FMTTYPE=image/jpeg:https://aldbourne-band.co.uk/wp-content/uploads/
 2025/08/IMG_5438.jpeg
CATEGORIES:Concert
END:VEVENT
BEGIN:VTIMEZONE
TZID:Europe/London
X-LIC-LOCATION:Europe/London
BEGIN:DAYLIGHT
DTSTART:20250330T020000
TZOFFSETFROM:+0000
TZOFFSETTO:+0100
TZNAME:BST
END:DAYLIGHT
END:VTIMEZONE
END:VCALENDAR