BEGIN:VCALENDAR
VERSION:2.0
PRODID:-//wp-events-plugin.com//7.2.3.1//EN
TZID:Europe/London
X-WR-TIMEZONE:Europe/London
BEGIN:VEVENT
UID:99@aldbourne-band.co.uk
DTSTART;TZID=Europe/London:20210904T180000
DTEND;TZID=Europe/London:20210904T180000
DTSTAMP:20210902T185931Z
URL:https://aldbourne-band.co.uk/events/carnival-march-4th-september-aroun
 d-village/
SUMMARY:Carnival - March 4th September around village
DESCRIPTION:The Band will be leading the Carnival March  around the villag
 e of Aldbourne on September 4th at 18:00 .\n\n&nbsp\;
ATTACH;FMTTYPE=image/jpeg:https://aldbourne-band.co.uk/wp-content/uploads/
 2020/01/thumbnail_Band-Salisbury.jpg
CATEGORIES:March
LOCATION:Aldbourne\, Memorial Hall\, Aldbourne\, United Kingdom
X-APPLE-STRUCTURED-LOCATION;VALUE=URI;X-ADDRESS=Memorial Hall\, Aldbourne\,
  United Kingdom;X-APPLE-RADIUS=100;X-TITLE=Aldbourne:geo:0,0
END:VEVENT
BEGIN:VTIMEZONE
TZID:Europe/London
X-LIC-LOCATION:Europe/London
BEGIN:DAYLIGHT
DTSTART:20210328T020000
TZOFFSETFROM:+0000
TZOFFSETTO:+0100
TZNAME:BST
END:DAYLIGHT
END:VTIMEZONE
END:VCALENDAR