BEGIN:VCALENDAR
VERSION:2.0
PRODID:-//wp-events-plugin.com//7.2.3.1//EN
TZID:Europe/London
X-WR-TIMEZONE:Europe/London
BEGIN:VEVENT
UID:47@aldbourne-band.co.uk
DTSTART;TZID=Europe/London:20180906T200000
DTEND;TZID=Europe/London:20180906T220000
DTSTAMP:20180904T101746Z
URL:https://aldbourne-band.co.uk/events/british-open-open-rehearsal-dr-dav
 id-thornton/
SUMMARY:British Open - Open Rehearsal  -  Dr David Thornton
DESCRIPTION:Come and Listen to Aldbourne Band in an Open Rehearsal with our
  Professional Conductor Dr David Thornton  as we prepare for our Inaugura
 l Appearance at the British Open Brass Band Championships.
ATTACH;FMTTYPE=image/jpeg:https://aldbourne-band.co.uk/wp-content/uploads/
 2018/09/Band-cottage-cropped-002.jpg
CATEGORIES:Open Rehearsal
LOCATION:St Michaels Church\, St Michaels Church\, Aldbourne\, Wiltshire\, 
 United Kingdom
X-APPLE-STRUCTURED-LOCATION;VALUE=URI;X-ADDRESS=St Michaels Church\, Aldbou
 rne\, Wiltshire\, United Kingdom;X-APPLE-RADIUS=100;X-TITLE=St Michaels Ch
 urch:geo:0,0
END:VEVENT
BEGIN:VTIMEZONE
TZID:Europe/London
X-LIC-LOCATION:Europe/London
BEGIN:DAYLIGHT
DTSTART:20180325T020000
TZOFFSETFROM:+0000
TZOFFSETTO:+0100
TZNAME:BST
END:DAYLIGHT
END:VTIMEZONE
END:VCALENDAR