BEGIN:VCALENDAR
VERSION:2.0
PRODID:-//wp-events-plugin.com//7.2.3.1//EN
TZID:Europe/London
X-WR-TIMEZONE:Europe/London
BEGIN:VEVENT
UID:134@aldbourne-band.co.uk
DTSTART;TZID=Europe/London:20231118T110000
DTEND;TZID=Europe/London:20231118T190000
DTSTAMP:20231108T183212Z
URL:https://aldbourne-band.co.uk/events/brass-in-concert/
SUMMARY:Brass In Concert
DESCRIPTION:
ATTACH;FMTTYPE=image/jpeg:https://aldbourne-band.co.uk/wp-content/uploads/
 2023/07/IMG_2287.jpeg
CATEGORIES:Concert
LOCATION:Sage\, Gateshead\, The Sage\, Gateshead\, United Kingdom
X-APPLE-STRUCTURED-LOCATION;VALUE=URI;X-ADDRESS=The Sage\, Gateshead\, Unit
 ed Kingdom;X-APPLE-RADIUS=100;X-TITLE=Sage\, Gateshead:geo:0,0
END:VEVENT
BEGIN:VTIMEZONE
TZID:Europe/London
X-LIC-LOCATION:Europe/London
BEGIN:STANDARD
DTSTART:20231029T010000
TZOFFSETFROM:+0100
TZOFFSETTO:+0000
TZNAME:GMT
END:STANDARD
END:VTIMEZONE
END:VCALENDAR