BEGIN:VCALENDAR
VERSION:2.0
PRODID:-//wp-events-plugin.com//7.2.3.1//EN
TZID:Europe/London
X-WR-TIMEZONE:Europe/London
BEGIN:VEVENT
UID:145@aldbourne-band.co.uk
DTSTART;TZID=Europe/London:20241116T100000
DTEND;TZID=Europe/London:20241116T220000
DTSTAMP:20240910T134450Z
URL:https://aldbourne-band.co.uk/events/brass-in-concert-2/
SUMMARY:Brass In Concert
DESCRIPTION:
ATTACH;FMTTYPE=image/jpeg:https://aldbourne-band.co.uk/wp-content/uploads/
 2023/07/IMG_2287.jpeg
CATEGORIES:Concert,Contest
LOCATION:The Glasshouse (BIC)\, St Mary's Square\, Gateshead Quays\, Gatesh
 ead\, NE8 2JR\, United Kingdom
X-APPLE-STRUCTURED-LOCATION;VALUE=URI;X-ADDRESS=St Mary's Square\, Gateshea
 d Quays\, Gateshead\, NE8 2JR\, United Kingdom;X-APPLE-RADIUS=100;X-TITLE=
 The Glasshouse (BIC):geo:0,0
END:VEVENT
BEGIN:VTIMEZONE
TZID:Europe/London
X-LIC-LOCATION:Europe/London
BEGIN:STANDARD
DTSTART:20241027T010000
TZOFFSETFROM:+0100
TZOFFSETTO:+0000
TZNAME:GMT
END:STANDARD
END:VTIMEZONE
END:VCALENDAR