BEGIN:VCALENDAR
VERSION:2.0
PRODID:-//wp-events-plugin.com//7.2.3.1//EN
TZID:Europe/London
X-WR-TIMEZONE:Europe/London
BEGIN:VEVENT
UID:42@aldbourne-band.co.uk
DTSTART;TZID=Europe/London:20181208T173000
DTEND;TZID=Europe/London:20181208T193000
DTSTAMP:20180312T210708Z
URL:https://aldbourne-band.co.uk/events/bbc-wiltshire-salisbury-carol-conc
 ert/
SUMMARY:BBC Wiltshire - Salisbury Carol Concert
DESCRIPTION:
ATTACH;FMTTYPE=image/jpeg:https://aldbourne-band.co.uk/wp-content/uploads/
 2018/03/IMG_0527.jpg
CATEGORIES:Carol Service,Christmas Concert,Concert
LOCATION:Salisbury Cathedral\, Salisbury Cathedral\, Salisbury\, United Kin
 gdom
X-APPLE-STRUCTURED-LOCATION;VALUE=URI;X-ADDRESS=Salisbury Cathedral\, Salis
 bury\, United Kingdom;X-APPLE-RADIUS=100;X-TITLE=Salisbury Cathedral:geo:0
 ,0
END:VEVENT
BEGIN:VTIMEZONE
TZID:Europe/London
X-LIC-LOCATION:Europe/London
BEGIN:STANDARD
DTSTART:20181028T010000
TZOFFSETFROM:+0100
TZOFFSETTO:+0000
TZNAME:GMT
END:STANDARD
END:VTIMEZONE
END:VCALENDAR