BEGIN:VCALENDAR
VERSION:2.0
PRODID:-//wp-events-plugin.com//7.2.3.1//EN
TZID:Europe/London
X-WR-TIMEZONE:Europe/London
BEGIN:VEVENT
UID:27@aldbourne-band.co.uk
DTSTART;TZID=Europe/London:20171224T170000
DTEND;TZID=Europe/London:20171224T183000
DTSTAMP:20171218T003132Z
URL:https://aldbourne-band.co.uk/events/bbc-wiltshire-carols-at-the-cathed
 ral/
SUMMARY:BBC Wiltshire Carols at the Cathedral
DESCRIPTION:Christmas Eve Broadcast of the Carol concert recorded at Salisb
 ury Cathedral. Repeated on Christmas day and available on-demand\n\n5pm Ch
 ristmas Eve\n\n9am Christmas Day
ATTACH;FMTTYPE=image/jpeg:https://aldbourne-band.co.uk/wp-content/uploads/
 2017/11/E88296C6-E2DB-4656-89C9-574315729036.jpeg
CATEGORIES:Carol Service
LOCATION:BBC Wiltshire\, BBC Wiltshire \, Radio\, United Kingdom
X-APPLE-STRUCTURED-LOCATION;VALUE=URI;X-ADDRESS=BBC Wiltshire \, Radio\, Un
 ited Kingdom;X-APPLE-RADIUS=100;X-TITLE=BBC Wiltshire:geo:0,0
END:VEVENT
BEGIN:VTIMEZONE
TZID:Europe/London
X-LIC-LOCATION:Europe/London
BEGIN:STANDARD
DTSTART:20171029T010000
TZOFFSETFROM:+0100
TZOFFSETTO:+0000
TZNAME:GMT
END:STANDARD
END:VTIMEZONE
END:VCALENDAR